BEGIN:VCALENDAR
VERSION:2.0
PRODID:-//KreativWerkR6 - ECPv6.15.20//NONSGML v1.0//EN
CALSCALE:GREGORIAN
METHOD:PUBLISH
X-WR-CALNAME:KreativWerkR6
X-ORIGINAL-URL:https://kreativwerkr6.de
X-WR-CALDESC:Veranstaltungen für KreativWerkR6
REFRESH-INTERVAL;VALUE=DURATION:PT1H
X-Robots-Tag:noindex
X-PUBLISHED-TTL:PT1H
BEGIN:VTIMEZONE
TZID:UTC
BEGIN:STANDARD
TZOFFSETFROM:+0000
TZOFFSETTO:+0000
TZNAME:UTC
DTSTART:20250101T000000
END:STANDARD
END:VTIMEZONE
BEGIN:VEVENT
DTSTART;TZID=UTC:20260507T150000
DTEND;TZID=UTC:20260507T190000
DTSTAMP:20260422T091244
CREATED:20260408T153207Z
LAST-MODIFIED:20260413T154317Z
UID:9887-1778166000-1778180400@kreativwerkr6.de
SUMMARY:Markenbotschaftertreffen 2026
DESCRIPTION:Werben Sie mit Ihrem Unternehmen für die Region\nMarkenbotschafter-Unternehmen sind Unternehmen aus den drei Kommunen Oranienburg\, Hennigsdorf und Velten\, die der Wirtschaftsregion Oberhavel ein Gesicht geben möchten!\nAuch Sie können jederzeit Markenbotschafterin oder Markenbotschafter der Region werden und mithelfen\, unsere gemeinsame Markenidentität weiterzuentwickeln und zu stärken.\nMade in Brandenburg\, made in OHV\, made in Oranienburg\, Hennigsdorf oder Velten – denn gemeinsam schaffen wir mehr Sichtbarkeit! \nBei Interesse sprechen Sie uns an: Unternehmen | Wirtschaftsregion O-H-V \n  \n– geladene Gäste / geschlossene Gesellschaft –
URL:https://kreativwerkr6.de/event/save-the-date-markenbotschaftertreffen/
LOCATION:KreativWerkR6\, Rathenaustraße 6\, Hennigsdorf\, Brandenburg\, 16761\, Deutschland
ATTACH;FMTTYPE=image/png:https://kreativwerkr6.de/wp-content/uploads/2026/04/Markenbotschafter-RWK-fb.png
ORGANIZER;CN="RWK O-H-V":MAILTO:info@rwk-ohv.de
END:VEVENT
END:VCALENDAR